BEGIN:VCALENDAR
PRODID:-//Ben Fortuna//iCal4j 1.0//EN
VERSION:2.0
CALSCALE:GREGORIAN
BEGIN:VTIMEZONE
TZID:Europe/Berlin
LAST-MODIFIED:20201010T011803Z
TZURL:http://tzurl.org/zoneinfo/Europe/Berlin
X-LIC-LOCATION:Europe/Berlin
X-PROLEPTIC-TZNAME:LMT
BEGIN:STANDARD
TZNAME:CET
TZOFFSETFROM:+005328
TZOFFSETTO:+0100
DTSTART:18930401T000000
END:STANDARD
BEGIN:DAYLIGHT
TZNAME:CEST
TZOFFSETFROM:+0100
TZOFFSETTO:+0200
DTSTART:19160430T230000
RDATE:19400401T020000
RDATE:19430329T020000
RDATE:19460414T020000
RDATE:19470406T030000
RDATE:19480418T020000
RDATE:19490410T020000
RDATE:19800406T020000
END:DAYLIGHT
BEGIN:STANDARD
TZNAME:CET
TZOFFSETFROM:+0200
TZOFFSETTO:+0100
DTSTART:19161001T010000
RDATE:19421102T030000
RDATE:19431004T030000
RDATE:19441002T030000
RDATE:19451118T030000
RDATE:19461007T030000
END:STANDARD
BEGIN:DAYLIGHT
TZNAME:CEST
TZOFFSETFROM:+0100
TZOFFSETTO:+0200
DTSTART:19170416T020000
RRULE:FREQ=YEARLY;UNTIL=19180415T010000Z;BYMONTH=4;BYDAY=3MO
END:DAYLIGHT
BEGIN:STANDARD
TZNAME:CET
TZOFFSETFROM:+0200
TZOFFSETTO:+0100
DTSTART:19170917T030000
RRULE:FREQ=YEARLY;UNTIL=19180916T010000Z;BYMONTH=9;BYDAY=3MO
END:STANDARD
BEGIN:DAYLIGHT
TZNAME:CEST
TZOFFSETFROM:+0100
TZOFFSETTO:+0200
DTSTART:19440403T020000
RRULE:FREQ=YEARLY;UNTIL=19450402T010000Z;BYMONTH=4;BYDAY=1MO
END:DAYLIGHT
BEGIN:DAYLIGHT
TZNAME:CEMT
TZOFFSETFROM:+0200
TZOFFSETTO:+0300
DTSTART:19450524T020000
RDATE:19470511T030000
END:DAYLIGHT
BEGIN:DAYLIGHT
TZNAME:CEST
TZOFFSETFROM:+0300
TZOFFSETTO:+0200
DTSTART:19450924T030000
RDATE:19470629T030000
END:DAYLIGHT
BEGIN:STANDARD
TZNAME:CET
TZOFFSETFROM:+0100
TZOFFSETTO:+0100
DTSTART:19460101T000000
RDATE:19800101T000000
END:STANDARD
BEGIN:STANDARD
TZNAME:CET
TZOFFSETFROM:+0200
TZOFFSETTO:+0100
DTSTART:19471005T030000
RRULE:FREQ=YEARLY;UNTIL=19491002T010000Z;BYMONTH=10;BYDAY=1SU
END:STANDARD
BEGIN:STANDARD
TZNAME:CET
TZOFFSETFROM:+0200
TZOFFSETTO:+0100
DTSTART:19800928T030000
RRULE:FREQ=YEARLY;UNTIL=19950924T010000Z;BYMONTH=9;BYDAY=-1SU
END:STANDARD
BEGIN:DAYLIGHT
TZNAME:CEST
TZOFFSETFROM:+0100
TZOFFSETTO:+0200
DTSTART:19810329T020000
RRULE:FREQ=YEARLY;BYMONTH=3;BYDAY=-1SU
END:DAYLIGHT
BEGIN:STANDARD
TZNAME:CET
TZOFFSETFROM:+0200
TZOFFSETTO:+0100
DTSTART:19961027T030000
RRULE:FREQ=YEARLY;BYMONTH=10;BYDAY=-1SU
END:STANDARD
END:VTIMEZONE
BEGIN:VEVENT
DTSTAMP:20260424T083253Z
DTSTART;TZID=Europe/Berlin:20260918T210000
DTEND;TZID=Europe/Berlin:20260918T230000
SUMMARY:26H14500 Nachtwächtertour durch München
CREATED:20260415T104638Z
LAST-MODIFIED:20260415T110119Z
DESCRIPTION:Eine abendliche Stadtführung durch die Altstadt von München m
 it einem \"echten\"  Nachtwächter. Die Tour führt durch enge Gassen und 
 an historischen Orten vorbei\, während der Nachtwächter viel über die Au
 fgaben und das Leben des Nachtwächters im Mittelalter erzählt und mit se
 iner Laterne und Hellebarde die Geschichten lebendig werden lässt.\n\nDi
 e Nachtwächter Tour ist nicht nur eine informative Reise in die Vergange
 nheit\, sondern auch ein beeindruckendes Erlebnis unter dem sternenübers
 äten Himmel Münchens. Während die Gruppe durch enge Gassen und malerisch
 e Plätze wandert\, werden die Teilnehmer von den fesselnden Erzählungen 
 des Nachtwächters in den Bann gezogen. Die Tour bietet einen einzigartig
 en Einblick in das nächtliche Leben der Stadt und vermittelt ein Gefühl 
 der Verbundenheit mit der Geschichte. Eine unvergessliche Erfahrung erwa
 rtet die Teilnehmer\, die sich auf dieses nächtliche Abenteuer begeben u
 nd München von einer ganz neuen Seite kennenlernen möchten.\n\n\n\n\nTre
 ffpunkt ist am Bahnhof Lohhof zur gemeinsamen Fahrt nach München (und zu
 rück) und zum evtl. Erwerb einer Gruppenkarte des ÖPNV (in Eigenregie). 
 Die Tour beginnt in München\, Marienplatz 15 (am Alten Rathaus\, Spielze
 ugmuseum).
LOCATION:Treffpunkt 19:30 Uhr am Bahnhof Lohhof zur gemeinsamen Fahrt nac
 h München
X-LOCATION-NAME:Treffpunkt 19:30 Uhr am Bahnhof Lohhof zur gemeinsamen Fa
 hrt nach München
ORGANIZER;CN=vhs Haimhausen:mailto:bildung@vhs-haimhausen.de
X-ORGANIZER-NAME:vhs Haimhausen
X-ORGANIZER-EMAIL:bildung@vhs-haimhausen.de
X-IONAS-CATEGORY:Kultur
CATEGORIES:Kultur,Geschichte,Kultur
UID:30a5f87e-8794-4737-a339-9a1e287d43a2
END:VEVENT
END:VCALENDAR
